BEGIN:VCALENDAR
VERSION:2.0
PRODID:-//Chatta - ECPv6.15.20//NONSGML v1.0//EN
CALSCALE:GREGORIAN
METHOD:PUBLISH
X-WR-CALNAME:Chatta
X-ORIGINAL-URL:https://chattalearning.com
X-WR-CALDESC:Events for Chatta
REFRESH-INTERVAL;VALUE=DURATION:PT1H
X-Robots-Tag:noindex
X-PUBLISHED-TTL:PT1H
BEGIN:VTIMEZONE
TZID:Europe/London
BEGIN:DAYLIGHT
TZOFFSETFROM:+0000
TZOFFSETTO:+0100
TZNAME:BST
DTSTART:20210328T010000
END:DAYLIGHT
BEGIN:STANDARD
TZOFFSETFROM:+0100
TZOFFSETTO:+0000
TZNAME:GMT
DTSTART:20211031T010000
END:STANDARD
BEGIN:DAYLIGHT
TZOFFSETFROM:+0000
TZOFFSETTO:+0100
TZNAME:BST
DTSTART:20220327T010000
END:DAYLIGHT
BEGIN:STANDARD
TZOFFSETFROM:+0100
TZOFFSETTO:+0000
TZNAME:GMT
DTSTART:20221030T010000
END:STANDARD
BEGIN:DAYLIGHT
TZOFFSETFROM:+0000
TZOFFSETTO:+0100
TZNAME:BST
DTSTART:20230326T010000
END:DAYLIGHT
BEGIN:STANDARD
TZOFFSETFROM:+0100
TZOFFSETTO:+0000
TZNAME:GMT
DTSTART:20231029T010000
END:STANDARD
END:VTIMEZONE
BEGIN:VEVENT
DTSTART;VALUE=DATE:20220415
DTEND;VALUE=DATE:20220418
DTSTAMP:20260420T084021
CREATED:20220217T164733Z
LAST-MODIFIED:20220217T164733Z
UID:12929-1649980800-1650239999@chattalearning.com
SUMMARY:Easter
DESCRIPTION:
URL:https://chattalearning.com/activities-calendar/easter/
CATEGORIES:EYFS Activities
END:VEVENT
BEGIN:VEVENT
DTSTART;VALUE=DATE:20220415
DTEND;VALUE=DATE:20220424
DTSTAMP:20260420T084021
CREATED:20220217T164817Z
LAST-MODIFIED:20220217T164817Z
UID:12931-1649980800-1650758399@chattalearning.com
SUMMARY:Passover
DESCRIPTION:
URL:https://chattalearning.com/activities-calendar/passover/
CATEGORIES:EYFS Activities
END:VEVENT
END:VCALENDAR