BEGIN:VCALENDAR
VERSION:2.0
PRODID:-//Chatta - ECPv6.15.20//NONSGML v1.0//EN
CALSCALE:GREGORIAN
METHOD:PUBLISH
X-WR-CALNAME:Chatta
X-ORIGINAL-URL:https://chattalearning.com
X-WR-CALDESC:Events for Chatta
REFRESH-INTERVAL;VALUE=DURATION:PT1H
X-Robots-Tag:noindex
X-PUBLISHED-TTL:PT1H
BEGIN:VTIMEZONE
TZID:Europe/London
BEGIN:DAYLIGHT
TZOFFSETFROM:+0000
TZOFFSETTO:+0100
TZNAME:BST
DTSTART:20210328T010000
END:DAYLIGHT
BEGIN:STANDARD
TZOFFSETFROM:+0100
TZOFFSETTO:+0000
TZNAME:GMT
DTSTART:20211031T010000
END:STANDARD
BEGIN:DAYLIGHT
TZOFFSETFROM:+0000
TZOFFSETTO:+0100
TZNAME:BST
DTSTART:20220327T010000
END:DAYLIGHT
BEGIN:STANDARD
TZOFFSETFROM:+0100
TZOFFSETTO:+0000
TZNAME:GMT
DTSTART:20221030T010000
END:STANDARD
BEGIN:DAYLIGHT
TZOFFSETFROM:+0000
TZOFFSETTO:+0100
TZNAME:BST
DTSTART:20230326T010000
END:DAYLIGHT
BEGIN:STANDARD
TZOFFSETFROM:+0100
TZOFFSETTO:+0000
TZNAME:GMT
DTSTART:20231029T010000
END:STANDARD
END:VTIMEZONE
BEGIN:VEVENT
DTSTART;VALUE=DATE:20220627
DTEND;VALUE=DATE:20220711
DTSTAMP:20260420T052540
CREATED:20220321T111515Z
LAST-MODIFIED:20220321T111515Z
UID:12984-1656288000-1657497599@chattalearning.com
SUMMARY:Wimbledon
DESCRIPTION:
URL:https://chattalearning.com/activities-calendar/wimbledon/
CATEGORIES:EYFS Activities
END:VEVENT
BEGIN:VEVENT
DTSTART;VALUE=DATE:20220701
DTEND;VALUE=DATE:20220725
DTSTAMP:20260420T052540
CREATED:20220321T111608Z
LAST-MODIFIED:20220321T111608Z
UID:12986-1656633600-1658707199@chattalearning.com
SUMMARY:Tour de France
DESCRIPTION:
URL:https://chattalearning.com/activities-calendar/tour-de-france/
CATEGORIES:EYFS Activities
END:VEVENT
BEGIN:VEVENT
DTSTART;VALUE=DATE:20220709
DTEND;VALUE=DATE:20220711
DTSTAMP:20260420T052540
CREATED:20220321T111948Z
LAST-MODIFIED:20220321T111948Z
UID:12990-1657324800-1657497599@chattalearning.com
SUMMARY:Eid al-Adha
DESCRIPTION:
URL:https://chattalearning.com/activities-calendar/eid-al-adha/
CATEGORIES:EYFS Activities
END:VEVENT
END:VCALENDAR