BEGIN:VCALENDAR
VERSION:2.0
PRODID:-//Chatta - ECPv6.15.20//NONSGML v1.0//EN
CALSCALE:GREGORIAN
METHOD:PUBLISH
X-ORIGINAL-URL:https://chattalearning.com
X-WR-CALDESC:Events for Chatta
REFRESH-INTERVAL;VALUE=DURATION:PT1H
X-Robots-Tag:noindex
X-PUBLISHED-TTL:PT1H
BEGIN:VTIMEZONE
TZID:Europe/London
BEGIN:DAYLIGHT
TZOFFSETFROM:+0000
TZOFFSETTO:+0100
TZNAME:BST
DTSTART:20210328T010000
END:DAYLIGHT
BEGIN:STANDARD
TZOFFSETFROM:+0100
TZOFFSETTO:+0000
TZNAME:GMT
DTSTART:20211031T010000
END:STANDARD
BEGIN:DAYLIGHT
TZOFFSETFROM:+0000
TZOFFSETTO:+0100
TZNAME:BST
DTSTART:20220327T010000
END:DAYLIGHT
BEGIN:STANDARD
TZOFFSETFROM:+0100
TZOFFSETTO:+0000
TZNAME:GMT
DTSTART:20221030T010000
END:STANDARD
BEGIN:DAYLIGHT
TZOFFSETFROM:+0000
TZOFFSETTO:+0100
TZNAME:BST
DTSTART:20230326T010000
END:DAYLIGHT
BEGIN:STANDARD
TZOFFSETFROM:+0100
TZOFFSETTO:+0000
TZNAME:GMT
DTSTART:20231029T010000
END:STANDARD
BEGIN:DAYLIGHT
TZOFFSETFROM:+0000
TZOFFSETTO:+0100
TZNAME:BST
DTSTART:20240331T010000
END:DAYLIGHT
BEGIN:STANDARD
TZOFFSETFROM:+0100
TZOFFSETTO:+0000
TZNAME:GMT
DTSTART:20241027T010000
END:STANDARD
END:VTIMEZONE
BEGIN:VEVENT
DTSTART;VALUE=DATE:20220831
DTEND;VALUE=DATE:20220901
DTSTAMP:20260420T053340
CREATED:20220321T112240Z
LAST-MODIFIED:20220321T112240Z
UID:12996-1661904000-1661990399@chattalearning.com
SUMMARY:Bank Holiday
DESCRIPTION:
URL:https://chattalearning.com/activities-calendar/bank-holiday/
CATEGORIES:EYFS Activities
END:VEVENT
BEGIN:VEVENT
DTSTART;VALUE=DATE:20220913
DTEND;VALUE=DATE:20220914
DTSTAMP:20260420T053340
CREATED:20220321T112342Z
LAST-MODIFIED:20220321T112342Z
UID:12998-1663027200-1663113599@chattalearning.com
SUMMARY:Roald Dahl Day
DESCRIPTION:
URL:https://chattalearning.com/activities-calendar/roald-dahl-day/
CATEGORIES:EYFS Activities
END:VEVENT
BEGIN:VEVENT
DTSTART;VALUE=DATE:20220919
DTEND;VALUE=DATE:20220920
DTSTAMP:20260420T053340
CREATED:20220321T112424Z
LAST-MODIFIED:20220321T112424Z
UID:13000-1663545600-1663631999@chattalearning.com
SUMMARY:Talk Like a Pirate Day
DESCRIPTION:
URL:https://chattalearning.com/activities-calendar/talk-like-a-pirate-day/
CATEGORIES:EYFS Activities
END:VEVENT
BEGIN:VEVENT
DTSTART;VALUE=DATE:20220920
DTEND;VALUE=DATE:20220926
DTSTAMP:20260420T053340
CREATED:20220321T112536Z
LAST-MODIFIED:20220321T112536Z
UID:13002-1663632000-1664150399@chattalearning.com
SUMMARY:Recycle Week
DESCRIPTION:
URL:https://chattalearning.com/activities-calendar/recycle-week/
CATEGORIES:EYFS Activities
END:VEVENT
BEGIN:VEVENT
DTSTART;VALUE=DATE:20220925
DTEND;VALUE=DATE:20220928
DTSTAMP:20260420T053340
CREATED:20220321T112711Z
LAST-MODIFIED:20220321T112711Z
UID:13004-1664064000-1664323199@chattalearning.com
SUMMARY:Rosh Hashanah
DESCRIPTION:
URL:https://chattalearning.com/activities-calendar/rosh-hashanah/
CATEGORIES:EYFS Activities
END:VEVENT
BEGIN:VEVENT
DTSTART;VALUE=DATE:20220926
DTEND;VALUE=DATE:20220927
DTSTAMP:20260420T053340
CREATED:20220321T112820Z
LAST-MODIFIED:20220321T112820Z
UID:13006-1664150400-1664236799@chattalearning.com
SUMMARY:European Day of Languages
DESCRIPTION:
URL:https://chattalearning.com/activities-calendar/european-day-of-languages/
CATEGORIES:EYFS Activities
END:VEVENT
BEGIN:VEVENT
DTSTART;VALUE=DATE:20221001
DTEND;VALUE=DATE:20221101
DTSTAMP:20260420T053340
CREATED:20220321T112900Z
LAST-MODIFIED:20220321T112900Z
UID:13008-1664582400-1667260799@chattalearning.com
SUMMARY:Black History Month
DESCRIPTION:
URL:https://chattalearning.com/activities-calendar/black-history-month/
CATEGORIES:EYFS Activities
END:VEVENT
BEGIN:VEVENT
DTSTART;VALUE=DATE:20221004
DTEND;VALUE=DATE:20221011
DTSTAMP:20260420T053340
CREATED:20220321T112945Z
LAST-MODIFIED:20220321T112945Z
UID:13010-1664841600-1665446399@chattalearning.com
SUMMARY:World Space Week
DESCRIPTION:
URL:https://chattalearning.com/activities-calendar/world-space-week/
CATEGORIES:EYFS Activities
END:VEVENT
BEGIN:VEVENT
DTSTART;VALUE=DATE:20221004
DTEND;VALUE=DATE:20221005
DTSTAMP:20260420T053340
CREATED:20220321T113048Z
LAST-MODIFIED:20220321T113048Z
UID:13012-1664841600-1664927999@chattalearning.com
SUMMARY:World Animal Day
DESCRIPTION:
URL:https://chattalearning.com/activities-calendar/world-animal-day/
CATEGORIES:EYFS Activities
END:VEVENT
BEGIN:VEVENT
DTSTART;VALUE=DATE:20221016
DTEND;VALUE=DATE:20221017
DTSTAMP:20260420T053340
CREATED:20220321T113132Z
LAST-MODIFIED:20220321T113132Z
UID:13014-1665878400-1665964799@chattalearning.com
SUMMARY:World Food Day
DESCRIPTION:
URL:https://chattalearning.com/activities-calendar/world-food-day/
CATEGORIES:EYFS Activities
END:VEVENT
BEGIN:VEVENT
DTSTART;VALUE=DATE:20221025
DTEND;VALUE=DATE:20221026
DTSTAMP:20260420T053340
CREATED:20220321T113212Z
LAST-MODIFIED:20220321T113212Z
UID:13016-1666656000-1666742399@chattalearning.com
SUMMARY:Diwali
DESCRIPTION:
URL:https://chattalearning.com/activities-calendar/diwali/
CATEGORIES:EYFS Activities
END:VEVENT
BEGIN:VEVENT
DTSTART;VALUE=DATE:20221031
DTEND;VALUE=DATE:20221101
DTSTAMP:20260420T053340
CREATED:20220321T113338Z
LAST-MODIFIED:20220321T113338Z
UID:13018-1667174400-1667260799@chattalearning.com
SUMMARY:Halloween
DESCRIPTION:
URL:https://chattalearning.com/activities-calendar/halloween/
CATEGORIES:EYFS Activities
END:VEVENT
BEGIN:VEVENT
DTSTART;VALUE=DATE:20221105
DTEND;VALUE=DATE:20221106
DTSTAMP:20260420T053340
CREATED:20220321T113416Z
LAST-MODIFIED:20220321T113416Z
UID:13021-1667606400-1667692799@chattalearning.com
SUMMARY:Bonfire Night
DESCRIPTION:
URL:https://chattalearning.com/activities-calendar/bonfire-night/
CATEGORIES:EYFS Activities
END:VEVENT
BEGIN:VEVENT
DTSTART;VALUE=DATE:20221110
DTEND;VALUE=DATE:20221111
DTSTAMP:20260420T053340
CREATED:20220321T113457Z
LAST-MODIFIED:20220321T113457Z
UID:13023-1668038400-1668124799@chattalearning.com
SUMMARY:World Science Day
DESCRIPTION:
URL:https://chattalearning.com/activities-calendar/world-science-day/
CATEGORIES:EYFS Activities
END:VEVENT
BEGIN:VEVENT
DTSTART;VALUE=DATE:20221111
DTEND;VALUE=DATE:20221112
DTSTAMP:20260420T053340
CREATED:20220321T113531Z
LAST-MODIFIED:20220321T113531Z
UID:13025-1668124800-1668211199@chattalearning.com
SUMMARY:Remembrance Day
DESCRIPTION:
URL:https://chattalearning.com/activities-calendar/remembrance-day/
CATEGORIES:EYFS Activities
END:VEVENT
BEGIN:VEVENT
DTSTART;VALUE=DATE:20221114
DTEND;VALUE=DATE:20221115
DTSTAMP:20260420T053340
CREATED:20220321T113609Z
LAST-MODIFIED:20220321T113609Z
UID:13027-1668384000-1668470399@chattalearning.com
SUMMARY:Odd Socks Day
DESCRIPTION:
URL:https://chattalearning.com/activities-calendar/odd-socks-day/
CATEGORIES:EYFS Activities
END:VEVENT
BEGIN:VEVENT
DTSTART;VALUE=DATE:20221210
DTEND;VALUE=DATE:20221211
DTSTAMP:20260420T053340
CREATED:20220321T113729Z
LAST-MODIFIED:20220321T113729Z
UID:13029-1670630400-1670716799@chattalearning.com
SUMMARY:Christmas Jumper Day
DESCRIPTION:
URL:https://chattalearning.com/activities-calendar/christmas-jumper-day/
CATEGORIES:EYFS Activities
END:VEVENT
BEGIN:VEVENT
DTSTART;VALUE=DATE:20221218
DTEND;VALUE=DATE:20221227
DTSTAMP:20260420T053340
CREATED:20220321T113821Z
LAST-MODIFIED:20220321T113821Z
UID:13031-1671321600-1672099199@chattalearning.com
SUMMARY:Hanukkah
DESCRIPTION:
URL:https://chattalearning.com/activities-calendar/hanukkah/
CATEGORIES:EYFS Activities
END:VEVENT
BEGIN:VEVENT
DTSTART;VALUE=DATE:20221224
DTEND;VALUE=DATE:20231227
DTSTAMP:20260420T053340
CREATED:20220321T113935Z
LAST-MODIFIED:20220321T113935Z
UID:13033-1671840000-1703635199@chattalearning.com
SUMMARY:Christmas
DESCRIPTION:
URL:https://chattalearning.com/activities-calendar/christmas/
CATEGORIES:EYFS Activities
END:VEVENT
END:VCALENDAR